BEGIN:VCALENDAR
VERSION:2.0
PRODID:-//Sabre//Sabre VObject 4.5.8//EN
CALSCALE:GREGORIAN
BEGIN:VEVENT
UID:sabre-vobject-12118077-c3bd-4866-b30c-61c508637e02
DTSTAMP:20260423T100350Z
SUMMARY:Spielenachmittag bei Julianne Boneberg ( Weissenwirt )
DESCRIPTION:https://pfarreien-bistum-augsburg.df-preview.de/spielenachmitta
 g-bei-julianne-boneberg-weissenwirt_id1748262
DTSTART;TZID=Europe/Berlin:20260518T133000
DURATION:PT30M
LOCATION:St. Nikolaus
END:VEVENT
END:VCALENDAR
