BEGIN:VCALENDAR
VERSION:2.0
PRODID:-//Sabre//Sabre VObject 4.5.8//EN
CALSCALE:GREGORIAN
BEGIN:VEVENT
UID:sabre-vobject-32f56f3e-4d27-47a1-93da-ba1cf9fd3531
DTSTAMP:20260424T204712Z
SUMMARY:Rosenkranz
DESCRIPTION:https://pfarreien-bistum-augsburg.df-preview.de/rosenkranz_id17
 48245
DTSTART;TZID=Europe/Berlin:20260527T180000
DURATION:PT30M
LOCATION:St. Martin
END:VEVENT
END:VCALENDAR
