BEGIN:VCALENDAR
VERSION:2.0
PRODID:-//Sabre//Sabre VObject 4.5.8//EN
CALSCALE:GREGORIAN
BEGIN:VEVENT
UID:sabre-vobject-ed5740df-fcdf-4d47-a9bd-055d52002bc0
DTSTAMP:20260422T152855Z
SUMMARY:Heilige Messe St. Jodok
DESCRIPTION:https://pfarreien-bistum-augsburg.df-preview.de/heilige-messe-s
 t-jodok_id1748171
DTSTART;TZID=Europe/Berlin:20260429T183000
DURATION:PT30M
LOCATION:St. Josef der Arbeiter
END:VEVENT
END:VCALENDAR
