BEGIN:VCALENDAR
VERSION:2.0
PRODID:-//Sabre//Sabre VObject 4.5.8//EN
CALSCALE:GREGORIAN
BEGIN:VEVENT
UID:sabre-vobject-6b8ecf25-b632-4496-ab77-5d9a6c6a3c68
DTSTAMP:20260422T210259Z
SUMMARY:Marien-Gottesdienst in der Kapelle Ay
DESCRIPTION:https://pfarreien-bistum-augsburg.df-preview.de/marien-gottesdi
 enst-in-der-kapelle-ay_id1748169
DTSTART;TZID=Europe/Berlin:20260502T080000
DURATION:PT30M
LOCATION:St. Josef der Arbeiter
END:VEVENT
END:VCALENDAR
