BEGIN:VCALENDAR
VERSION:2.0
PRODID:-//Sabre//Sabre VObject 4.5.8//EN
CALSCALE:GREGORIAN
BEGIN:VEVENT
UID:sabre-vobject-68b9a8f0-a431-48b9-a953-b6a1bd3bca0b
DTSTAMP:20260423T001850Z
SUMMARY:Festmesse
DESCRIPTION:https://pfarreien-bistum-augsburg.df-preview.de/festmesse_id174
 8068
DTSTART;TZID=Europe/Berlin:20260514T093000
DURATION:PT30M
LOCATION:Mariä Himmelfahrt\, Portnerstr. 2\, 86356 Neusäß-Täfertingen
END:VEVENT
END:VCALENDAR
