BEGIN:VCALENDAR
VERSION:2.0
PRODID:-//Sabre//Sabre VObject 4.5.8//EN
CALSCALE:GREGORIAN
BEGIN:VEVENT
UID:sabre-vobject-6845bace-f106-4c68-ab5f-3b9b3939e612
DTSTAMP:20260425T181733Z
SUMMARY:Gloria Worship
DESCRIPTION:https://pfarreien-bistum-augsburg.df-preview.de/gloria-worship_
 id1748015
DTSTART;TZID=Europe/Berlin:20260426T183000
DURATION:PT30M
LOCATION:Mariä Geburt
END:VEVENT
END:VCALENDAR
