BEGIN:VCALENDAR
VERSION:2.0
PRODID:-//Sabre//Sabre VObject 4.5.8//EN
CALSCALE:GREGORIAN
BEGIN:VEVENT
UID:sabre-vobject-bc3f4810-e297-4945-9514-0efa4497520e
DTSTAMP:20260423T091645Z
SUMMARY:Rosenkranz
DESCRIPTION:https://pfarreien-bistum-augsburg.df-preview.de/rosenkranz_id17
 47955
DTSTART;TZID=Europe/Berlin:20260507T080000
DURATION:PT30M
LOCATION:St. Silvester\, Kirchweg 4a\, 86856 Hiltenfingen
END:VEVENT
END:VCALENDAR
