BEGIN:VCALENDAR
VERSION:2.0
PRODID:-//Sabre//Sabre VObject 4.5.8//EN
CALSCALE:GREGORIAN
BEGIN:VEVENT
UID:sabre-vobject-50bf48a8-2412-43bd-993d-37b8e65a57a6
DTSTAMP:20260424T092415Z
SUMMARY:Rosenkranz
DESCRIPTION:https://pfarreien-bistum-augsburg.df-preview.de/rosenkranz_id17
 47907
DTSTART;TZID=Europe/Berlin:20260526T080000
DURATION:PT30M
LOCATION:St. Peter und Paul\, Schwabenstraße 26\, 87640 Ebenhofen
END:VEVENT
END:VCALENDAR
