BEGIN:VCALENDAR
VERSION:2.0
PRODID:-//Sabre//Sabre VObject 4.5.8//EN
CALSCALE:GREGORIAN
BEGIN:VEVENT
UID:sabre-vobject-55e9e140-f60c-4cab-91dd-cfb7b491c0c3
DTSTAMP:20260424T064518Z
SUMMARY:Heilige Messe
DESCRIPTION:https://pfarreien-bistum-augsburg.df-preview.de/heilige-messe_i
 d1747906
DTSTART;TZID=Europe/Berlin:20260525T101500
DURATION:PT30M
LOCATION:St. Peter und Paul\, Schwabenstraße 26\, 87640 Ebenhofen
END:VEVENT
END:VCALENDAR
