BEGIN:VCALENDAR
VERSION:2.0
PRODID:-//Sabre//Sabre VObject 4.5.8//EN
CALSCALE:GREGORIAN
BEGIN:VEVENT
UID:sabre-vobject-ec9a3127-b179-4dd6-b2b8-4cdcbf33ab17
DTSTAMP:20260422T193644Z
SUMMARY:Maiandacht
DESCRIPTION:https://pfarreien-bistum-augsburg.df-preview.de/maiandacht_id17
 47899
DTSTART;TZID=Europe/Berlin:20260512T190000
DURATION:PT30M
LOCATION:Mariä Himmelfahrt\, Portnerstr. 2\, 86356 Neusäß-Täfertingen
END:VEVENT
END:VCALENDAR
