BEGIN:VCALENDAR
VERSION:2.0
PRODID:-//Sabre//Sabre VObject 4.5.8//EN
CALSCALE:GREGORIAN
BEGIN:VEVENT
UID:sabre-vobject-6943e390-573e-4577-992c-0c63063109db
DTSTAMP:20260422T164606Z
SUMMARY:Festgottesdienst (für die Pfarrgemeinde)
DESCRIPTION:https://pfarreien-bistum-augsburg.df-preview.de/festgottesdiens
 t-fuer-die-pfarrgemeinde_id1747894
DTSTART;TZID=Europe/Berlin:20260524T090000
DURATION:PT30M
LOCATION:Pfarrkirche Mariä Himmelfahrt\, Kirchplatz 1\, 89257 Illertissen
END:VEVENT
END:VCALENDAR
