BEGIN:VCALENDAR
VERSION:2.0
PRODID:-//Sabre//Sabre VObject 4.5.8//EN
CALSCALE:GREGORIAN
BEGIN:VEVENT
UID:sabre-vobject-27982882-8318-409e-a140-2e499ae538c8
DTSTAMP:20260422T095035Z
SUMMARY:Sonntagsgottesdienst
DESCRIPTION:https://pfarreien-bistum-augsburg.df-preview.de/sonntagsgottesd
 ienst_id1747882
DTSTART;TZID=Europe/Berlin:20260503T084500
DURATION:PT30M
LOCATION:St. Pankratius
END:VEVENT
END:VCALENDAR
