BEGIN:VCALENDAR
VERSION:2.0
PRODID:-//Sabre//Sabre VObject 4.5.8//EN
CALSCALE:GREGORIAN
BEGIN:VEVENT
UID:sabre-vobject-5ecfaaf2-299b-4bc0-a7ea-f75c4799df5c
DTSTAMP:20260425T014635Z
SUMMARY:Heilige Messe
DESCRIPTION:https://pfarreien-bistum-augsburg.df-preview.de/heilige-messe_i
 d1747763
DTSTART;TZID=Europe/Berlin:20260426T183000
DURATION:PT30M
LOCATION:Zu Unserer Lieben Frau\, Münsterpl. 1\, 86609 Donauwörth
END:VEVENT
END:VCALENDAR
