BEGIN:VCALENDAR
VERSION:2.0
PRODID:-//Sabre//Sabre VObject 4.5.8//EN
CALSCALE:GREGORIAN
BEGIN:VEVENT
UID:sabre-vobject-7f7d376b-8159-4264-a803-239df0728f5b
DTSTAMP:20260424T093133Z
SUMMARY:Beichtgelegenheit bis 17:45 Uhr
DESCRIPTION:https://pfarreien-bistum-augsburg.df-preview.de/beichtgelegenhe
 it-bis-17-45-uhr_id1747754
DTSTART;TZID=Europe/Berlin:20260523T171500
DURATION:PT30M
LOCATION:St. Martin
END:VEVENT
END:VCALENDAR
