BEGIN:VCALENDAR
VERSION:2.0
PRODID:-//Sabre//Sabre VObject 4.5.8//EN
CALSCALE:GREGORIAN
BEGIN:VEVENT
UID:sabre-vobject-7a69d6c1-315e-467d-8b93-ba7fefc67bab
DTSTAMP:20260424T221446Z
SUMMARY:Abendmesse
DESCRIPTION:https://pfarreien-bistum-augsburg.df-preview.de/abendmesse_id17
 47741
DTSTART;TZID=Europe/Berlin:20260521T180000
DURATION:PT30M
LOCATION:St. Martin
END:VEVENT
END:VCALENDAR
