BEGIN:VCALENDAR
VERSION:2.0
PRODID:-//Sabre//Sabre VObject 4.5.8//EN
CALSCALE:GREGORIAN
BEGIN:VEVENT
UID:sabre-vobject-1db3830a-4beb-4411-bf1a-a8de28678160
DTSTAMP:20260422T221319Z
SUMMARY:Rosenkranz
DESCRIPTION:https://pfarreien-bistum-augsburg.df-preview.de/rosenkranz_id17
 47734
DTSTART;TZID=Europe/Berlin:20260517T133000
DURATION:PT30M
LOCATION:St. Pankratius
END:VEVENT
END:VCALENDAR
