BEGIN:VCALENDAR
VERSION:2.0
PRODID:-//Sabre//Sabre VObject 4.5.8//EN
CALSCALE:GREGORIAN
BEGIN:VEVENT
UID:sabre-vobject-ac5fe971-babe-4371-a622-68c1388244ef
DTSTAMP:20260424T041325Z
SUMMARY:Taufe in St. Ulrich
DESCRIPTION:https://pfarreien-bistum-augsburg.df-preview.de/taufe-in-st-ulr
 ich_id1747678
DTSTART;TZID=Europe/Berlin:20260425T140000
DURATION:PT30M
LOCATION:St. Ulrich
END:VEVENT
END:VCALENDAR
