BEGIN:VCALENDAR
VERSION:2.0
PRODID:-//Sabre//Sabre VObject 4.5.8//EN
CALSCALE:GREGORIAN
BEGIN:VEVENT
UID:sabre-vobject-07451453-f0c1-4282-b7f8-0622f34fad86
DTSTAMP:20260423T043323Z
SUMMARY:Sternbittgang zur Schleichkapelle - Treffpunkt an der Kirche - Heil
 ige Messe um ca. 19.45 Uhr (bei schlechter Witterung Gottesdienst um 19.00
  Uhr in der Pfarrkirche St. Pankratius Bidingen)
DESCRIPTION:https://pfarreien-bistum-augsburg.df-preview.de/sternbittgang-z
 ur-schleichkapelle-treffpunkt-an-der-kirche-heilige-messe-um-ca-19-45-uhr-
 bei-schlechter-witterung-gottesdienst-um-19-00-uhr-in-der-pfarrkirche-st-p
 ankratius-bidingen_id1747638
DTSTART;TZID=Europe/Berlin:20260512T190000
DURATION:PT30M
LOCATION:St. Pankratius
END:VEVENT
END:VCALENDAR
