BEGIN:VCALENDAR
VERSION:2.0
PRODID:-//Sabre//Sabre VObject 4.5.8//EN
CALSCALE:GREGORIAN
BEGIN:VEVENT
UID:sabre-vobject-32e85caf-479f-4373-999d-d48461bdd0fb
DTSTAMP:20260425T024938Z
SUMMARY:Bittgang nach Sielenbach
DESCRIPTION:https://pfarreien-bistum-augsburg.df-preview.de/bittgang-nach-s
 ielenbach_id1747616
DTSTART;TZID=Europe/Berlin:20260425T060000
DURATION:PT30M
LOCATION:St. Jakobus maj.
END:VEVENT
END:VCALENDAR
