BEGIN:VCALENDAR
VERSION:2.0
PRODID:-//Sabre//Sabre VObject 4.5.8//EN
CALSCALE:GREGORIAN
BEGIN:VEVENT
UID:sabre-vobject-de5e286b-1b81-4de1-9930-87ff1792c5eb
DTSTAMP:20260424T144316Z
SUMMARY:TRAUUNG von Alesja Gurakuqi und Viktor Kinzel
DESCRIPTION:https://pfarreien-bistum-augsburg.df-preview.de/trauung-von-ale
 sja-gurakuqi-und-viktor-kinzel_id1747475
DTSTART;TZID=Europe/Berlin:20260425T130000
DURATION:PT30M
LOCATION:Zu Unserer Lieben Frau\, Münsterpl. 1\, 86609 Donauwörth
END:VEVENT
END:VCALENDAR
