BEGIN:VCALENDAR
VERSION:2.0
PRODID:-//Sabre//Sabre VObject 4.5.8//EN
CALSCALE:GREGORIAN
BEGIN:VEVENT
UID:sabre-vobject-b4c42f1b-0d07-4eeb-badb-1263bc3a6f83
DTSTAMP:20260421T184309Z
SUMMARY:Hl. Messe in Baierberg\, anschließend Flurumgang
DESCRIPTION:https://pfarreien-bistum-augsburg.df-preview.de/hl-messe-in-bai
 erberg-anschliessend-flurumgang_id1747460
DTSTART;TZID=Europe/Berlin:20260515T190000
DURATION:PT30M
LOCATION:St. Michael\, Kirchpl. \, 86415 Mering
END:VEVENT
END:VCALENDAR
