BEGIN:VCALENDAR
VERSION:2.0
PRODID:-//Sabre//Sabre VObject 4.5.8//EN
CALSCALE:GREGORIAN
BEGIN:VEVENT
UID:sabre-vobject-0f9d5c2b-d0b1-433c-9757-68e26b0f96e7
DTSTAMP:20260424T143741Z
SUMMARY:Bittrosenkranz in der Leonhardkapelle
DESCRIPTION:https://pfarreien-bistum-augsburg.df-preview.de/bittrosenkranz-
 in-der-leonhardkapelle_id1747366
DTSTART;TZID=Europe/Berlin:20260512T190000
DURATION:PT30M
LOCATION:St. Silvester\, Kirchweg 4a\, 86856 Hiltenfingen
END:VEVENT
END:VCALENDAR
