BEGIN:VCALENDAR
VERSION:2.0
PRODID:-//Sabre//Sabre VObject 4.5.8//EN
CALSCALE:GREGORIAN
BEGIN:VEVENT
UID:sabre-vobject-2f30c0e3-3383-42e2-a7d4-7b6530a0e981
DTSTAMP:20260424T024257Z
SUMMARY:Bittgang zur Leonhardkapelle\, anschl. Messfeier
DESCRIPTION:https://pfarreien-bistum-augsburg.df-preview.de/bittgang-zur-le
 onhardkapelle-anschl-messfeier_id1747365
DTSTART;TZID=Europe/Berlin:20260511T190000
DURATION:PT30M
LOCATION:St. Silvester\, Kirchweg 4a\, 86856 Hiltenfingen
END:VEVENT
END:VCALENDAR
