BEGIN:VCALENDAR
VERSION:2.0
PRODID:-//Sabre//Sabre VObject 4.5.8//EN
CALSCALE:GREGORIAN
BEGIN:VEVENT
UID:sabre-vobject-25f2d584-4fe5-49ee-b9cb-d378eae5e494
DTSTAMP:20260424T150734Z
SUMMARY:Vorabendmesse zu CHRISTI HIMMELFAHRT
DESCRIPTION:https://pfarreien-bistum-augsburg.df-preview.de/vorabendmesse-z
 u-christi-himmelfahrt_id1747342
DTSTART;TZID=Europe/Berlin:20260513T190000
DURATION:PT30M
LOCATION:St. Georg
END:VEVENT
END:VCALENDAR
