BEGIN:VCALENDAR
VERSION:2.0
PRODID:-//Sabre//Sabre VObject 4.5.8//EN
CALSCALE:GREGORIAN
BEGIN:VEVENT
UID:sabre-vobject-5639c0ec-e1a2-43ad-8880-12baf99fbe2c
DTSTAMP:20260425T035736Z
SUMMARY:Abendmesse
DESCRIPTION:https://pfarreien-bistum-augsburg.df-preview.de/abendmesse_id17
 47319
DTSTART;TZID=Europe/Berlin:20260520T190000
DURATION:PT30M
LOCATION:St. Antonius (Einsiedler)\, Graf-Kirchberg-Straße 32\, 89257 Ille
 rtissen
END:VEVENT
END:VCALENDAR
