BEGIN:VCALENDAR
VERSION:2.0
PRODID:-//Sabre//Sabre VObject 4.5.8//EN
CALSCALE:GREGORIAN
BEGIN:VEVENT
UID:sabre-vobject-cde16fde-9fa0-4856-88fb-66e97054b08f
DTSTAMP:20260422T164607Z
SUMMARY:Maiandacht
DESCRIPTION:https://pfarreien-bistum-augsburg.df-preview.de/maiandacht_id17
 47285
DTSTART;TZID=Europe/Berlin:20260524T180000
DURATION:PT30M
LOCATION:St. Meinrad\, Kirchenstraße 23\, 89257 Illertissen
END:VEVENT
END:VCALENDAR
