BEGIN:VCALENDAR
VERSION:2.0
PRODID:-//Sabre//Sabre VObject 4.5.8//EN
CALSCALE:GREGORIAN
BEGIN:VEVENT
UID:sabre-vobject-a523c107-8aac-46b4-a0f1-bc8feb5377af
DTSTAMP:20260424T110104Z
SUMMARY:Schülermesse
DESCRIPTION:https://pfarreien-bistum-augsburg.df-preview.de/schuelermesse_i
 d1747275
DTSTART;TZID=Europe/Berlin:20260429T063000
DURATION:PT30M
LOCATION:St. Josef
END:VEVENT
END:VCALENDAR
