BEGIN:VCALENDAR
VERSION:2.0
PRODID:-//Sabre//Sabre VObject 4.5.8//EN
CALSCALE:GREGORIAN
BEGIN:VEVENT
UID:sabre-vobject-e397bb2b-f154-432b-8eaa-e013751d6a66
DTSTAMP:20260424T070430Z
SUMMARY:Heilige Messe\; parallel Zwergen-Gottesdienst im Pfarrzentrum\, ans
 chl. Stehkaffee
DESCRIPTION:https://pfarreien-bistum-augsburg.df-preview.de/heilige-messe-p
 arallel-zwergen-gottesdienst-im-pfarrzentrum-anschl-stehkaffee_id1747262
DTSTART;TZID=Europe/Berlin:20260426T103000
DURATION:PT30M
LOCATION:St. Josef
END:VEVENT
END:VCALENDAR
