BEGIN:VCALENDAR
VERSION:2.0
PRODID:-//Sabre//Sabre VObject 4.5.8//EN
CALSCALE:GREGORIAN
BEGIN:VEVENT
UID:sabre-vobject-4a3e5ab5-63be-44ec-b908-5fd88cdbc43a
DTSTAMP:20260424T055034Z
SUMMARY:Vesper mit den Firmbewerbern
DESCRIPTION:https://pfarreien-bistum-augsburg.df-preview.de/vesper-mit-den-
 firmbewerbern_id1747261
DTSTART;TZID=Europe/Berlin:20260425T174500
DURATION:PT30M
LOCATION:St. Josef
END:VEVENT
END:VCALENDAR
