BEGIN:VCALENDAR
VERSION:2.0
PRODID:-//Sabre//Sabre VObject 4.5.8//EN
CALSCALE:GREGORIAN
BEGIN:VEVENT
UID:sabre-vobject-0cd1e6a8-e1bb-448f-b480-f8bb143d93d6
DTSTAMP:20260424T055029Z
SUMMARY:Rosenkranz
DESCRIPTION:https://pfarreien-bistum-augsburg.df-preview.de/rosenkranz_id17
 47196
DTSTART;TZID=Europe/Berlin:20260427T080000
DURATION:PT30M
LOCATION:St. Peter und Paul\, Schwabenstraße 26\, 87640 Ebenhofen
END:VEVENT
END:VCALENDAR
