BEGIN:VCALENDAR
VERSION:2.0
PRODID:-//Sabre//Sabre VObject 4.5.8//EN
CALSCALE:GREGORIAN
BEGIN:VEVENT
UID:sabre-vobject-12c4db51-23d7-4f01-bac0-6cfbfbb39bff
DTSTAMP:20260423T005032Z
SUMMARY:Eucharistische Anbetung
DESCRIPTION:https://pfarreien-bistum-augsburg.df-preview.de/eucharistische-
 anbetung_id1747041
DTSTART;TZID=Europe/Berlin:20260428T181500
DURATION:PT30M
LOCATION:St. Ulrich
END:VEVENT
END:VCALENDAR
