BEGIN:VCALENDAR
VERSION:2.0
PRODID:-//Sabre//Sabre VObject 4.5.8//EN
CALSCALE:GREGORIAN
BEGIN:VEVENT
UID:sabre-vobject-e98c641e-e899-468a-8c1c-bfbf6b4f0f6e
DTSTAMP:20260423T094108Z
SUMMARY:Feierlicher Erstkommuniongottesdienst 4
DESCRIPTION:https://pfarreien-bistum-augsburg.df-preview.de/feierlicher-ers
 tkommuniongottesdienst-4_id1747005
DTSTART;TZID=Europe/Berlin:20260503T110000
DURATION:PT30M
LOCATION:St. Jakobus maj.\, St.-Jakobs-Platz\, 86316 Friedberg
END:VEVENT
END:VCALENDAR
