BEGIN:VCALENDAR
VERSION:2.0
PRODID:-//Sabre//Sabre VObject 4.5.8//EN
CALSCALE:GREGORIAN
BEGIN:VEVENT
UID:sabre-vobject-749e44c2-aaf5-467e-85dd-e01f48f352c7
DTSTAMP:20260422T154735Z
SUMMARY:Holy Hour\, musikalisch gestaltete Anbetungsstunde\; parallel Mögl
 ichkeit zum Empfang des Sakraments der Beichte
DESCRIPTION:https://pfarreien-bistum-augsburg.df-preview.de/holy-hour-musik
 alisch-gestaltete-anbetungsstunde-parallel-moeglichkeit-zum-empfang-des-sa
 kraments-der-beichte_id1746996
DTSTART;TZID=Europe/Berlin:20260503T190000
DURATION:PT30M
LOCATION:Kuratie St. Johannes Baptist\, Klosterstr. 1\, 86695 Allmannshofen
 -Holzen
END:VEVENT
END:VCALENDAR
