BEGIN:VCALENDAR
VERSION:2.0
PRODID:-//Sabre//Sabre VObject 4.5.8//EN
CALSCALE:GREGORIAN
BEGIN:VEVENT
UID:sabre-vobject-c869b880-65ce-48dd-8a42-a15c3b124624
DTSTAMP:20260425T185429Z
SUMMARY:Pfarrgottesdienst Heilige Messe
DESCRIPTION:https://pfarreien-bistum-augsburg.df-preview.de/pfarrgottesdien
 st-heilige-messe_id1746992
DTSTART;TZID=Europe/Berlin:20260503T100000
DURATION:PT30M
LOCATION:St. Georg\, Schulstr. 4\, 86707 Westendorf
END:VEVENT
END:VCALENDAR
