BEGIN:VCALENDAR
VERSION:2.0
PRODID:-//Sabre//Sabre VObject 4.5.8//EN
CALSCALE:GREGORIAN
BEGIN:VEVENT
UID:sabre-vobject-b9b5113e-e0b8-49fc-a1eb-9979dbc06b1b
DTSTAMP:20260424T185425Z
SUMMARY:Heilige Messe zum Hochfest Pfingsten
DESCRIPTION:https://pfarreien-bistum-augsburg.df-preview.de/heilige-messe-z
 um-hochfest-pfingsten_id1746986
DTSTART;TZID=Europe/Berlin:20260525T101500
DURATION:PT30M
LOCATION:St. Sebastian\, Adelshausener Str. 6\, 86558 Hohenwart
END:VEVENT
END:VCALENDAR
