BEGIN:VCALENDAR
VERSION:2.0
PRODID:-//Sabre//Sabre VObject 4.5.8//EN
CALSCALE:GREGORIAN
BEGIN:VEVENT
UID:sabre-vobject-f8295ce3-7055-42d8-acef-3ab754c73e6b
DTSTAMP:20260423T142019Z
SUMMARY:Rosenkranz
DESCRIPTION:https://pfarreien-bistum-augsburg.df-preview.de/rosenkranz_id17
 46979
DTSTART;TZID=Europe/Berlin:20260516T163000
DURATION:PT30M
LOCATION:Mariä Reinigung
END:VEVENT
END:VCALENDAR
