BEGIN:VCALENDAR
VERSION:2.0
PRODID:-//Sabre//Sabre VObject 4.5.8//EN
CALSCALE:GREGORIAN
BEGIN:VEVENT
UID:sabre-vobject-d3fe24f1-929f-400a-90dd-2971181090d5
DTSTAMP:20260424T194102Z
SUMMARY:Heilige Messe zum Hochfest Christi Himmelfahrt m. anschl. Flurumgan
 g
DESCRIPTION:https://pfarreien-bistum-augsburg.df-preview.de/heilige-messe-z
 um-hochfest-christi-himmelfahrt-m-anschl-flurumgang_id1746976
DTSTART;TZID=Europe/Berlin:20260514T083000
DURATION:PT30M
LOCATION:St. Sebastian\, Adelshausener Str. 6\, 86558 Hohenwart
END:VEVENT
END:VCALENDAR
