BEGIN:VCALENDAR
VERSION:2.0
PRODID:-//Sabre//Sabre VObject 4.5.8//EN
CALSCALE:GREGORIAN
BEGIN:VEVENT
UID:sabre-vobject-743ea7e4-9a11-47cc-8275-5d87a696198b
DTSTAMP:20260422T051855Z
SUMMARY:Vorabendmesse zum Hochfest Maria\, Schutzfrau Bayerns
DESCRIPTION:https://pfarreien-bistum-augsburg.df-preview.de/vorabendmesse-z
 um-hochfest-maria-schutzfrau-bayerns_id1746937
DTSTART;TZID=Europe/Berlin:20260430T190000
DURATION:PT30M
LOCATION:Mariä Reinigung
END:VEVENT
END:VCALENDAR
