BEGIN:VCALENDAR
VERSION:2.0
PRODID:-//Sabre//Sabre VObject 4.5.8//EN
CALSCALE:GREGORIAN
BEGIN:VEVENT
UID:sabre-vobject-9b7fbf96-f316-417a-b8c3-38a325e4b090
DTSTAMP:20260423T094032Z
SUMMARY:Heilige Messe zum Hochfest Pfingsten
DESCRIPTION:https://pfarreien-bistum-augsburg.df-preview.de/heilige-messe-z
 um-hochfest-pfingsten_id1746925
DTSTART;TZID=Europe/Berlin:20260525T084500
DURATION:PT30M
LOCATION:St. Anna\, Dorfstr. 17\, 86558 Hohenwart - Weichenried
END:VEVENT
END:VCALENDAR
