BEGIN:VCALENDAR
VERSION:2.0
PRODID:-//Sabre//Sabre VObject 4.5.8//EN
CALSCALE:GREGORIAN
BEGIN:VEVENT
UID:sabre-vobject-6cca5fef-020b-4b7c-bbf4-b73de2f34800
DTSTAMP:20260423T061538Z
SUMMARY:Maiandacht
DESCRIPTION:https://pfarreien-bistum-augsburg.df-preview.de/maiandacht_id17
 46924
DTSTART;TZID=Europe/Berlin:20260519T190000
DURATION:PT30M
LOCATION:St. Anna\, Dorfstr. 17\, 86558 Hohenwart - Weichenried
END:VEVENT
END:VCALENDAR
