BEGIN:VCALENDAR
VERSION:2.0
PRODID:-//Sabre//Sabre VObject 4.5.8//EN
CALSCALE:GREGORIAN
BEGIN:VEVENT
UID:sabre-vobject-f1ef442e-230a-4690-aeef-ca89f96d86f3
DTSTAMP:20260422T063956Z
SUMMARY:Feierliche Maiandacht mit Aussetzung des Allerheiligsten
DESCRIPTION:https://pfarreien-bistum-augsburg.df-preview.de/feierliche-maia
 ndacht-mit-aussetzung-des-allerheiligsten_id1746891
DTSTART;TZID=Europe/Berlin:20260502T190000
DURATION:PT30M
LOCATION:St. Vitus
END:VEVENT
END:VCALENDAR
