BEGIN:VCALENDAR
VERSION:2.0
PRODID:-//Sabre//Sabre VObject 4.5.8//EN
CALSCALE:GREGORIAN
BEGIN:VEVENT
UID:sabre-vobject-4fd02e33-50a9-48cd-9737-b4646dc8a583
DTSTAMP:20260424T235209Z
SUMMARY:Bittgang nach Steinerskirchen
DESCRIPTION:https://pfarreien-bistum-augsburg.df-preview.de/bittgang-nach-s
 teinerskirchen_id1746885
DTSTART;TZID=Europe/Berlin:20260513T000000
DURATION:PT30M
LOCATION:St. Pantaleon\, Kirchberg 5\, 86558 Hohenwart - Deimhausen
END:VEVENT
END:VCALENDAR
