BEGIN:VCALENDAR
VERSION:2.0
PRODID:-//Sabre//Sabre VObject 4.5.8//EN
CALSCALE:GREGORIAN
BEGIN:VEVENT
UID:sabre-vobject-fb9c43f1-e559-4c48-908e-42c3b03b1e8c
DTSTAMP:20260424T082550Z
SUMMARY:Bittgang von Lindach/Eulenried u. Göbelsbach nach Tegernbach
DESCRIPTION:https://pfarreien-bistum-augsburg.df-preview.de/bittgang-von-li
 ndach-eulenried-u-goebelsbach-nach-tegernbach_id1746881
DTSTART;TZID=Europe/Berlin:20260511T184500
DURATION:PT30M
LOCATION:St. Ulrich\, Hs.-Nr. 14\, 86558 Hohenwart - Lindach
END:VEVENT
END:VCALENDAR
