BEGIN:VCALENDAR
VERSION:2.0
PRODID:-//Sabre//Sabre VObject 4.5.8//EN
CALSCALE:GREGORIAN
BEGIN:VEVENT
UID:sabre-vobject-5a41bbbe-d433-43f8-93d3-b6613e8d79ea
DTSTAMP:20260422T063953Z
SUMMARY:Salve Regina und Rosenkranz
DESCRIPTION:https://pfarreien-bistum-augsburg.df-preview.de/salve-regina-un
 d-rosenkranz_id1746732
DTSTART;TZID=Europe/Berlin:20260421T083000
DURATION:PT30M
LOCATION:Mariä Schmerzen u. St. Ulrich\, Kirchhof 4\, 87764 Maria Steinbac
 h
END:VEVENT
END:VCALENDAR
