BEGIN:VCALENDAR
VERSION:2.0
PRODID:-//Sabre//Sabre VObject 4.5.8//EN
CALSCALE:GREGORIAN
BEGIN:VEVENT
UID:sabre-vobject-92ac9393-b39b-49f4-8921-6b432b79643a
DTSTAMP:20260422T000405Z
SUMMARY:Rosenkranz in den Wallfahreranliegen
DESCRIPTION:https://pfarreien-bistum-augsburg.df-preview.de/rosenkranz-in-d
 en-wallfahreranliegen_id1746728
DTSTART;TZID=Europe/Berlin:20260419T083000
DURATION:PT30M
LOCATION:Mariä Schmerzen u. St. Ulrich\, Kirchhof 4\, 87764 Maria Steinbac
 h
END:VEVENT
END:VCALENDAR
