BEGIN:VCALENDAR
VERSION:2.0
PRODID:-//Sabre//Sabre VObject 4.5.8//EN
CALSCALE:GREGORIAN
BEGIN:VEVENT
UID:sabre-vobject-3ac8047c-0f22-4d7f-b03f-5cdb9ce87ac0
DTSTAMP:20260421T192131Z
SUMMARY:Hl. Amt-Erstkommunion
DESCRIPTION:https://pfarreien-bistum-augsburg.df-preview.de/hl-amt-erstkomm
 union_id1746695
DTSTART;TZID=Europe/Berlin:20260426T103000
DURATION:PT30M
LOCATION:Mariä Himmelfahrt\, Schlottergasse 2\, 87758 Kronburg-Illerbeuren
END:VEVENT
END:VCALENDAR
