BEGIN:VCALENDAR
VERSION:2.0
PRODID:-//Sabre//Sabre VObject 4.5.8//EN
CALSCALE:GREGORIAN
BEGIN:VEVENT
UID:sabre-vobject-f86a4696-e2aa-46f1-b98e-0e4ec048a1af
DTSTAMP:20260422T124701Z
SUMMARY:Hl. Messe
DESCRIPTION:https://pfarreien-bistum-augsburg.df-preview.de/hl-messe_id1746
 692
DTSTART;TZID=Europe/Berlin:20260426T183000
DURATION:PT30M
LOCATION:St. Jakobus maj.\, St.-Jakobs-Platz\, 86316 Friedberg
END:VEVENT
END:VCALENDAR
