BEGIN:VCALENDAR
VERSION:2.0
PRODID:-//Sabre//Sabre VObject 4.5.8//EN
CALSCALE:GREGORIAN
BEGIN:VEVENT
UID:sabre-vobject-fe8212a0-dca7-482b-9300-ffaee15d99c2
DTSTAMP:20260424T081109Z
SUMMARY:Taufe von Hannah Amalie Angeli
DESCRIPTION:https://pfarreien-bistum-augsburg.df-preview.de/taufe-von-hanna
 h-amalie-angeli_id1746648
DTSTART;TZID=Europe/Berlin:20260425T140000
DURATION:PT30M
LOCATION:St. Pankratius
END:VEVENT
END:VCALENDAR
