BEGIN:VCALENDAR
VERSION:2.0
PRODID:-//Sabre//Sabre VObject 4.5.8//EN
CALSCALE:GREGORIAN
BEGIN:VEVENT
UID:sabre-vobject-403b07ee-2ff2-48f3-9afe-406584abd012
DTSTAMP:20260423T043306Z
SUMMARY:Sonntagsgottesdienst (musikal. Gestaltung durch De Lumina aus Monhe
 im)
DESCRIPTION:https://pfarreien-bistum-augsburg.df-preview.de/sonntagsgottesd
 ienst-musikal-gestaltung-durch-de-lumina-aus-monheim_id1746632
DTSTART;TZID=Europe/Berlin:20260503T100000
DURATION:PT30M
LOCATION:St. Wolfgang
END:VEVENT
END:VCALENDAR
