BEGIN:VCALENDAR
VERSION:2.0
PRODID:-//Sabre//Sabre VObject 4.5.8//EN
CALSCALE:GREGORIAN
BEGIN:VEVENT
UID:sabre-vobject-41ec961a-681c-44cc-b3ea-e1048c8df785
DTSTAMP:20260421T091319Z
SUMMARY:Rosenkranz
DESCRIPTION:https://pfarreien-bistum-augsburg.df-preview.de/rosenkranz_id17
 46547
DTSTART;TZID=Europe/Berlin:20260428T184500
DURATION:PT30M
LOCATION:St. Ulrich
END:VEVENT
END:VCALENDAR
